BEGIN:VCALENDAR
VERSION:2.0
PRODID:-//PK HB - ECPv6.15.20//NONSGML v1.0//EN
CALSCALE:GREGORIAN
METHOD:PUBLISH
X-ORIGINAL-URL:https://pk-hb.de
X-WR-CALDESC:Veranstaltungen für PK HB
REFRESH-INTERVAL;VALUE=DURATION:PT1H
X-Robots-Tag:noindex
X-PUBLISHED-TTL:PT1H
BEGIN:VTIMEZONE
TZID:Europe/Berlin
BEGIN:DAYLIGHT
TZOFFSETFROM:+0100
TZOFFSETTO:+0200
TZNAME:CEST
DTSTART:20240331T010000
END:DAYLIGHT
BEGIN:STANDARD
TZOFFSETFROM:+0200
TZOFFSETTO:+0100
TZNAME:CET
DTSTART:20241027T010000
END:STANDARD
BEGIN:DAYLIGHT
TZOFFSETFROM:+0100
TZOFFSETTO:+0200
TZNAME:CEST
DTSTART:20250330T010000
END:DAYLIGHT
BEGIN:STANDARD
TZOFFSETFROM:+0200
TZOFFSETTO:+0100
TZNAME:CET
DTSTART:20251026T010000
END:STANDARD
BEGIN:DAYLIGHT
TZOFFSETFROM:+0100
TZOFFSETTO:+0200
TZNAME:CEST
DTSTART:20260329T010000
END:DAYLIGHT
BEGIN:STANDARD
TZOFFSETFROM:+0200
TZOFFSETTO:+0100
TZNAME:CET
DTSTART:20261025T010000
END:STANDARD
END:VTIMEZONE
BEGIN:VEVENT
DTSTART;TZID=Europe/Berlin:20250905T103000
DTEND;TZID=Europe/Berlin:20251121T173000
DTSTAMP:20260423T130850
CREATED:20250716T030013Z
LAST-MODIFIED:20250829T114612Z
UID:5394-1757068200-1763746200@pk-hb.de
SUMMARY:"Psychotraumatologie im Kontext besonders Schutzbedürftiger" Curriculare Fortbildungsreihe zum Thema Flucht\, Folter und Trauma
DESCRIPTION:05.09.25 – 10.30 bis 17.30\n1: Grundlagen Psychotraumatologie und Besonderheiten in der Arbeit mit geflüchteten Menschen \n\nEpidemiologie: Flucht und psychische Belastung\nGrundlagen Psychotraumatologie\, Besonderheiten der Flucht- und Exilsituation\nKultur- Macht und Diskriminierungssensibilität; Umgang mit Diskriminierungs- und\nRassismuserfahrungen im therapeutischen Kontext\nSchutzbedarfe nach EU- Aufnahmerichtlinie und ihre rechtlichen Auswirkungen\nGrundlagen Asyl- und Aufenthaltsrecht\, Relevanz für den Gesundheitssektor\n\n26.09.25 – 10-30 bis 17.30\n2: Diagnostische Grundlagen und Abfassung von qualifizierten Stellungnahmen in\naufenthaltsrechtlichen Verfahren \n\nPTBS und komorbide Störungen in ICD10/11 und DSM V: diagnostische Kriterien\nBesonderheiten der transkulturellen Anamnese und Diagnostik\nExploration und Befunderhebung\, Diagnostikinstrumente\nQualifizierte Stellungnahmen im Asyl- und aufenthaltsrechtlichen Verfahren\, Kontext und\nNotwendigkeit\, fachliche Haltung\, Inhalt und Bedeutung der sog. „Mindestnormen“\n\n07.11.25 – 10.30 bis 17.30\n3: Therapie mit erwachsenen Geflüchteten \n\nMethoden in der Psychotherapie mit traumatisierten Geflüchteten: Stabilisierung;\nPsychoedukation; Traumabearbeitung; Integration; Praxisübungen\n„Therapie zu Dritt“: Besonderheiten der psychotherapeutischen Arbeit mit Sprachmittlung\,\nPraxisübungen\n\n21.11.25 – 10.30 bis 17.30\n4: Therapie mit geflüchteten Kindern\, Jugendlichen und Familien \n\nKinder und Jugendliche auf der Flucht\nEntwicklungstrauma\, entwicklungsabhängige Traumaverarbeitung\nÜbergangswelten\, Ressourcen und Bewältigungsstrategien\, multimodale Therapieansätze\n\n\nFortbildungspunkte: 34\nReferent*innen: – Danja Schönhöfer – Doreen Seefeldt – Katrin Schock \n\n\nTag\nBeginn\nEnde\n\n\n1\n05.09.2025 10:30\n17:30\n\n\n2\n27.09.2025 10:30\n17:30\n\n\n3\n07.11.2025 10:30\n17:30\n\n\n4\n21.11.2025 10:30\n17:30\n\n\nAnmeldung erforderlich\nTelefon: 0421-1766770\nE-Mail: fortbildung@refugio-bremen.de\nInternet: https://www.refugio-bremen.de/fortbildungen/\nGebühr pro Teilnehmer: 400\,- €\nMaximale Teilnehmerzahl: 15
URL:https://pk-hb.de/event/psychotraumatologie-im-kontext-besonders-schutzbeduerftiger-curriculare-fortbildungsreihe-zum-thema-flucht-folter-und-trauma/
LOCATION:Refugio Bremen e.V.
CATEGORIES:FoBi,Seminar
END:VEVENT
BEGIN:VEVENT
DTSTART;TZID=Europe/Berlin:20251104T183000
DTEND;TZID=Europe/Berlin:20251104T191500
DTSTAMP:20260423T130850
CREATED:20251003T030023Z
LAST-MODIFIED:20251023T194127Z
UID:5619-1762281000-1762283700@pk-hb.de
SUMMARY:Nachhaltige Praxis?! Wie wir Klimaschutz und Nachhaltigkeit praktisch umsetzen können.
DESCRIPTION:Ein Impulsvortrag von Sophie Kunert\, Klimabeauftragte der PK HB mit praktischen Hinweisen und Tipps wie psychotherapeutischen Praxen nachhaltiger und klimagerechter gestaltet werden können. Anschließende Diskussion.\nAnmeldung erbeten bis 29.10.2025 per E-Mail an: verwaltung@pk-hb.de\, Stichwort: Anmeldung Nachaltige Praxis 4.11.25 \n\nFortbildungspunkte: 1\nReferent*innen:\n– Kunert Sophie Johanna\nAnmeldung erforderlich\nE-Mail: verwaltung@pk-hb.de\nMaximale Teilnehmerzahl: 100
URL:https://pk-hb.de/event/nachhaltige-praxis-wie-wir-klimaschutz-und-nachhaltigkeit-praktisch-umsetzen-koennen/
LOCATION:Vortragsaal der Kassenärztlichen Vereinigung Bremen
CATEGORIES:FoBi,Vortrag und Diskussion
END:VEVENT
BEGIN:VEVENT
DTSTART;TZID=Europe/Berlin:20251104T193000
DTEND;TZID=Europe/Berlin:20251104T193000
DTSTAMP:20260423T130850
CREATED:20241024T104741Z
LAST-MODIFIED:20250424T105030Z
UID:4732-1762284600-1762284600@pk-hb.de
SUMMARY:52. Kammerversammlung
DESCRIPTION:
URL:https://pk-hb.de/event/52-kammerversammlung/
LOCATION:Saal der Kassenärztlichen Vereinigung Bremen (KVHB)\, Schwachhauser Heerstr. 26-28\, Bremen\, 28209
CATEGORIES:PK HB
END:VEVENT
BEGIN:VEVENT
DTSTART;TZID=Europe/Berlin:20251108T113000
DTEND;TZID=Europe/Berlin:20251108T151500
DTSTAMP:20260423T130850
CREATED:20250603T030009Z
LAST-MODIFIED:20250829T114612Z
UID:5307-1762601400-1762614900@pk-hb.de
SUMMARY:Methoden zur Förderung von Sozialverhalten
DESCRIPTION:Um das Sozialverhalten von Kindern mit ASS bzw. Asper-Syndrom zu fördern\, können Comic-Strips\, Social Scores\, Cartoons\, Video-Modeling eingesetzt werden. \n\nFortbildungspunkte: 5\nReferent*innen: – Ragna Cordes\nInternet: https://www.ifa-bremen.de/impressum/\nMaximale Teilnehmerzahl: 23
URL:https://pk-hb.de/event/methoden-zur-foerderung-von-sozialverhalten/
LOCATION:Constructor University\, Campus Ring 1\, Bremen\, 28759
CATEGORIES:FoBi,Kurs
END:VEVENT
BEGIN:VEVENT
DTSTART;TZID=Europe/Berlin:20251108T183000
DTEND;TZID=Europe/Berlin:20251108T203000
DTSTAMP:20260423T130850
CREATED:20251003T030023Z
LAST-MODIFIED:20251003T030023Z
UID:5617-1762626600-1762633800@pk-hb.de
SUMMARY:Die rätselhaften Botschaften des Textes
DESCRIPTION:In diesem Beitrag zur Literaturpsychoanalyse und psychoanalytischen Theorie der ästhetischen Erfahrung geht es um eine Untersuchung des Text-Leser:in-Verhältnisses unter Nutzung von Laplanches Konzept der »rätselhaften Botschaften«.\nIn früheren Arbeiten war die ästhetische Erfahrung als intersubjektive konzeptualisiert worden\, in deren Vollzug das ästhetische Objekt zum (imaginären) Subjekt wird – und reziprok das rezipierende Subjekt zu dessen Objekt des Begehrens: »Was will das Bild/der Text von mir?«.Welche Rolle spielen in diesem Prozess einer wechselseitigen Konstituierung die rätselhaften Botschaften des Textes\, die Laplanche zufolge einen Überschuss bzw. sein Triebhaftes vermitteln? Jenseits der offen-reziproken Beziehung des Verstehens zwischen Leser:in und Text wird damit eine zweite Ebene der Beziehung generiert\, »in der die Interaktion keine Geltung mehr hat\, weil die Waagschalen ungleich sind« (Laplanche\, Neue Grundlagen für die Psychoanalyse\, S. 134). Für die/den Leser:in erwächst daraus eine tendenziell unabschließbare\, ja stets scheiternde Übersetzungsaufgabe.\nDiese Dynamik soll anhand einer literarischen Fallstudie zur Erzählung „Alte Abdeckerei“ von Wolfgang Hilbig unter die Lupe genommen werden. \n\nFortbildungspunkte: 2\nReferent*innen: – Philipp Soldt
URL:https://pk-hb.de/event/die-raetselhaften-botschaften-des-textes/
LOCATION:Bremer Psychoanalytische Vereinigung
CATEGORIES:FoBi,Vortrag und Diskussion
END:VEVENT
BEGIN:VEVENT
DTSTART;VALUE=DATE:20251114
DTEND;VALUE=DATE:20251116
DTSTAMP:20260423T130850
CREATED:20231201T092154Z
LAST-MODIFIED:20250424T105024Z
UID:4295-1763078400-1763251199@pk-hb.de
SUMMARY:47. DPT
DESCRIPTION:Deutscher Psychotherapeutentag
URL:https://pk-hb.de/event/47-dpt/
LOCATION:Berlin
CATEGORIES:PK HB
END:VEVENT
END:VCALENDAR