BEGIN:VCALENDAR
VERSION:2.0
PRODID:-//PK HB - ECPv6.15.17//NONSGML v1.0//EN
CALSCALE:GREGORIAN
METHOD:PUBLISH
X-ORIGINAL-URL:https://pk-hb.de
X-WR-CALDESC:Veranstaltungen für PK HB
REFRESH-INTERVAL;VALUE=DURATION:PT1H
X-Robots-Tag:noindex
X-PUBLISHED-TTL:PT1H
BEGIN:VTIMEZONE
TZID:Europe/Berlin
BEGIN:DAYLIGHT
TZOFFSETFROM:+0100
TZOFFSETTO:+0200
TZNAME:CEST
DTSTART:20250330T010000
END:DAYLIGHT
BEGIN:STANDARD
TZOFFSETFROM:+0200
TZOFFSETTO:+0100
TZNAME:CET
DTSTART:20251026T010000
END:STANDARD
BEGIN:DAYLIGHT
TZOFFSETFROM:+0100
TZOFFSETTO:+0200
TZNAME:CEST
DTSTART:20260329T010000
END:DAYLIGHT
BEGIN:STANDARD
TZOFFSETFROM:+0200
TZOFFSETTO:+0100
TZNAME:CET
DTSTART:20261025T010000
END:STANDARD
BEGIN:DAYLIGHT
TZOFFSETFROM:+0100
TZOFFSETTO:+0200
TZNAME:CEST
DTSTART:20270328T010000
END:DAYLIGHT
BEGIN:STANDARD
TZOFFSETFROM:+0200
TZOFFSETTO:+0100
TZNAME:CET
DTSTART:20271031T010000
END:STANDARD
END:VTIMEZONE
BEGIN:VEVENT
DTSTART;TZID=Europe/Berlin:20260423T170000
DTEND;TZID=Europe/Berlin:20260424T160000
DTSTAMP:20260421T144453
CREATED:20250603T030009Z
LAST-MODIFIED:20250829T114612Z
UID:5308-1776963600-1777046400@pk-hb.de
SUMMARY:Elternarbeit\, Elterntraining\, Elternprofessionalisierung - Teil I und II
DESCRIPTION:Teil I: Schwierigkeiten von Eltern von Kindern mit ASS\, Generalisierung der Lerninhalte\, Lernen in Alltagssituationen mit Kindern mit ASS\nTeil II: Elternarbeit\, Elterntrainingsprogramme\, Auswertung der Aufgaben aus Teil I\n\n\nFortbildungspunkte: 14\nReferent*innen: – Ragna Cordes \n\n\nTag\nBeginn\nEnde\n\n\n1\n23.04.2026 17:00\n20:00\n\n\n2\n24.4.2026 9:00\n16:00\n\n\nInternet: https://www.ifa-bremen.de/impressum/\nMaximale Teilnehmerzahl: 23
URL:https://pk-hb.de/event/elternarbeit-elterntraining-elternprofessionalisierung-teil-i-und-ii/
LOCATION:Constructor University\, Campus Ring 1\, Bremen\, 28759
CATEGORIES:FoBi,Kurs
END:VEVENT
BEGIN:VEVENT
DTSTART;VALUE=DATE:20260508
DTEND;VALUE=DATE:20260510
DTSTAMP:20260421T144453
CREATED:20251202T095347Z
LAST-MODIFIED:20251202T095935Z
UID:5743-1778198400-1778371199@pk-hb.de
SUMMARY:48. DPT
DESCRIPTION:Deutscher Psychotherapeutentag
URL:https://pk-hb.de/event/48-dpt/
LOCATION:Travemünde
CATEGORIES:PK HB
END:VEVENT
BEGIN:VEVENT
DTSTART;TZID=Europe/Berlin:20260616T193000
DTEND;TZID=Europe/Berlin:20260616T193000
DTSTAMP:20260421T144453
CREATED:20251202T094444Z
LAST-MODIFIED:20251202T094444Z
UID:5736-1781638200-1781638200@pk-hb.de
SUMMARY:53. Kammerversammlung
DESCRIPTION:
URL:https://pk-hb.de/event/53-kammerversammlung/
LOCATION:Saal der Kassenärztlichen Vereinigung Bremen (KVHB)\, Schwachhauser Heerstr. 26-28\, Bremen\, 28209
CATEGORIES:PK HB
END:VEVENT
BEGIN:VEVENT
DTSTART;TZID=Europe/Berlin:20261027T193000
DTEND;TZID=Europe/Berlin:20261027T193000
DTSTAMP:20260421T144453
CREATED:20251202T094846Z
LAST-MODIFIED:20251202T094846Z
UID:5739-1793129400-1793129400@pk-hb.de
SUMMARY:54. Kammerversammlung
DESCRIPTION:
URL:https://pk-hb.de/event/54-kammerversammlung/
LOCATION:Saal der Kassenärztlichen Vereinigung Bremen (KVHB)\, Schwachhauser Heerstr. 26-28\, Bremen\, 28209
CATEGORIES:PK HB
END:VEVENT
BEGIN:VEVENT
DTSTART;VALUE=DATE:20261113
DTEND;VALUE=DATE:20261115
DTSTAMP:20260421T144453
CREATED:20251202T095645Z
LAST-MODIFIED:20251202T095824Z
UID:5746-1794528000-1794700799@pk-hb.de
SUMMARY:49. DPT
DESCRIPTION:Deutscher Psychotherapeutentag
URL:https://pk-hb.de/event/49-dpt/
LOCATION:Berlin
CATEGORIES:PK HB
END:VEVENT
END:VCALENDAR