BEGIN:VCALENDAR
VERSION:2.0
PRODID:-//PK HB - ECPv6.15.20//NONSGML v1.0//EN
CALSCALE:GREGORIAN
METHOD:PUBLISH
X-ORIGINAL-URL:https://pk-hb.de
X-WR-CALDESC:Veranstaltungen für PK HB
REFRESH-INTERVAL;VALUE=DURATION:PT1H
X-Robots-Tag:noindex
X-PUBLISHED-TTL:PT1H
BEGIN:VTIMEZONE
TZID:Europe/Berlin
BEGIN:DAYLIGHT
TZOFFSETFROM:+0100
TZOFFSETTO:+0200
TZNAME:CEST
DTSTART:20250330T010000
END:DAYLIGHT
BEGIN:STANDARD
TZOFFSETFROM:+0200
TZOFFSETTO:+0100
TZNAME:CET
DTSTART:20251026T010000
END:STANDARD
BEGIN:DAYLIGHT
TZOFFSETFROM:+0100
TZOFFSETTO:+0200
TZNAME:CEST
DTSTART:20260329T010000
END:DAYLIGHT
BEGIN:STANDARD
TZOFFSETFROM:+0200
TZOFFSETTO:+0100
TZNAME:CET
DTSTART:20261025T010000
END:STANDARD
BEGIN:DAYLIGHT
TZOFFSETFROM:+0100
TZOFFSETTO:+0200
TZNAME:CEST
DTSTART:20270328T010000
END:DAYLIGHT
BEGIN:STANDARD
TZOFFSETFROM:+0200
TZOFFSETTO:+0100
TZNAME:CET
DTSTART:20271031T010000
END:STANDARD
END:VTIMEZONE
BEGIN:VEVENT
DTSTART;TZID=Europe/Berlin:20260416T203000
DTEND;TZID=Europe/Berlin:20260416T221500
DTSTAMP:20260423T132044
CREATED:20260422T030004Z
LAST-MODIFIED:20260422T030004Z
UID:6110-1776371400-1776377700@pk-hb.de
SUMMARY:Qualitätszirkel DPG-AG Bremen am Psychoanalytischen Institut
DESCRIPTION:Fallbesprechung mit kollegialer Intervision und Supervision\, Literaturrecherche und -diskussion zu aktuellen psychotherapeutischen und psychoanalytischen und technisch-kasuistischen Fragen\, politische und gesellschaftliche Aspekte von Psychotherapie und Psychoanalyse \n\nFortbildungspunkte: 2\nReferent*innen: – Christoph Frühwein\nAnmeldung erforderlich\nMaximale Teilnehmerzahl: 12
URL:https://pk-hb.de/event/qualitaetszirkel-dpg-ag-bremen-am-psychoanalytischen-institut/
LOCATION:PSIB
CATEGORIES:FoBi,Qualitätszirkel
END:VEVENT
END:VCALENDAR