BEGIN:VCALENDAR
VERSION:2.0
PRODID:-//PK HB - ECPv6.15.20//NONSGML v1.0//EN
CALSCALE:GREGORIAN
METHOD:PUBLISH
X-WR-CALNAME:PK HB
X-ORIGINAL-URL:https://pk-hb.de
X-WR-CALDESC:Veranstaltungen für PK HB
REFRESH-INTERVAL;VALUE=DURATION:PT1H
X-Robots-Tag:noindex
X-PUBLISHED-TTL:PT1H
BEGIN:VTIMEZONE
TZID:Europe/Berlin
BEGIN:DAYLIGHT
TZOFFSETFROM:+0100
TZOFFSETTO:+0200
TZNAME:CEST
DTSTART:20240331T010000
END:DAYLIGHT
BEGIN:STANDARD
TZOFFSETFROM:+0200
TZOFFSETTO:+0100
TZNAME:CET
DTSTART:20241027T010000
END:STANDARD
BEGIN:DAYLIGHT
TZOFFSETFROM:+0100
TZOFFSETTO:+0200
TZNAME:CEST
DTSTART:20250330T010000
END:DAYLIGHT
BEGIN:STANDARD
TZOFFSETFROM:+0200
TZOFFSETTO:+0100
TZNAME:CET
DTSTART:20251026T010000
END:STANDARD
BEGIN:DAYLIGHT
TZOFFSETFROM:+0100
TZOFFSETTO:+0200
TZNAME:CEST
DTSTART:20260329T010000
END:DAYLIGHT
BEGIN:STANDARD
TZOFFSETFROM:+0200
TZOFFSETTO:+0100
TZNAME:CET
DTSTART:20261025T010000
END:STANDARD
END:VTIMEZONE
BEGIN:VEVENT
DTSTART;TZID=Europe/Berlin:20251203T163000
DTEND;TZID=Europe/Berlin:20251203T183000
DTSTAMP:20260423T125619
CREATED:20251203T030102Z
LAST-MODIFIED:20251203T030102Z
UID:5756-1764779400-1764786600@pk-hb.de
SUMMARY:„Therapie zu Dritt“ – Einsatz von Sprachmittlung
DESCRIPTION:Grundlagen der Behandlung geflüchteter Menschen mithilfe von Sprachmittler:innen\, Information zur Nutznug des Sprachmittlungspools \n\nFortbildungspunkte: 2\nReferent*innen: – Danja Schönhöfer\nAnmeldung erforderlich\nTelefon: 042117668968\nE-Mail: fortbildung@refugio-bremen.de\nInternet: https://www.refugio-bremen.de/\nMaximale Teilnehmerzahl: 15
URL:https://pk-hb.de/event/therapie-zu-dritt-einsatz-von-sprachmittlung/
LOCATION:Refugio Bremen e.V.
CATEGORIES:FoBi,Vortrag und Diskussion
END:VEVENT
END:VCALENDAR