BEGIN:VCALENDAR
VERSION:2.0
PRODID:-//PK HB - ECPv6.15.20//NONSGML v1.0//EN
CALSCALE:GREGORIAN
METHOD:PUBLISH
X-ORIGINAL-URL:https://pk-hb.de
X-WR-CALDESC:Veranstaltungen für PK HB
REFRESH-INTERVAL;VALUE=DURATION:PT1H
X-Robots-Tag:noindex
X-PUBLISHED-TTL:PT1H
BEGIN:VTIMEZONE
TZID:Europe/Berlin
BEGIN:DAYLIGHT
TZOFFSETFROM:+0100
TZOFFSETTO:+0200
TZNAME:CEST
DTSTART:20240331T010000
END:DAYLIGHT
BEGIN:STANDARD
TZOFFSETFROM:+0200
TZOFFSETTO:+0100
TZNAME:CET
DTSTART:20241027T010000
END:STANDARD
BEGIN:DAYLIGHT
TZOFFSETFROM:+0100
TZOFFSETTO:+0200
TZNAME:CEST
DTSTART:20250330T010000
END:DAYLIGHT
BEGIN:STANDARD
TZOFFSETFROM:+0200
TZOFFSETTO:+0100
TZNAME:CET
DTSTART:20251026T010000
END:STANDARD
BEGIN:DAYLIGHT
TZOFFSETFROM:+0100
TZOFFSETTO:+0200
TZNAME:CEST
DTSTART:20260329T010000
END:DAYLIGHT
BEGIN:STANDARD
TZOFFSETFROM:+0200
TZOFFSETTO:+0100
TZNAME:CET
DTSTART:20261025T010000
END:STANDARD
END:VTIMEZONE
BEGIN:VEVENT
DTSTART;TZID=Europe/Berlin:20250821T110000
DTEND;TZID=Europe/Berlin:20250822T163000
DTSTAMP:20260423T193908
CREATED:20250523T030027Z
LAST-MODIFIED:20250523T030027Z
UID:5299-1755774000-1755880200@pk-hb.de
SUMMARY:Diagnostik von ADS und ADHS bei Erwachsenen
DESCRIPTION:Der Kurs ist sowohl für Einsteiger in die Thematik\, als auch für Fortgeschrittene geeignet. \nInhalte für Einsteiger: \nLeitliniengerechte Diagnostik\, d.h. Anamnese auf der Grundlage wissenschaftlich gesicherter Ursachen\, Analyse von Grundschulzeugnissen mit Beispielen für das AD\, Impulsivität und hohe Intelligenz. Standardisierte Fragebögen\, insbesondere die HASE (Homburger ADHS-Skalen für Erwachsene) da diese bereits seit 2009 in Deutschland eingesetzt werden und die höchste Verbreitung haben. \nInhalte für Fortgeschrittene: \nDemonstration zusätzlicher neuropsychologischer Möglichkeiten\, die bisher nicht in der Literatur existieren. Diese basieren auf 400 Fällen mit Diagnosen nach Leitlinien plus neuropsychologische Daten durch die TAP (Testbatterie zur Aufmerksamkeitsprüfung) aus der psychiatrischen Institutsambulanz des Klinikums am Europakanal in Erlangen. Es werden Korrelationen zwischen der TAP und dem Schweregrad\, Medikation\, Fragebogen\, Effekten von THC\, kurzfristige Aktivierung durch Sport und zur Verlaufskontrolle in grafischer Präsentation besprochen. \nArt der Veranstaltung: Präsenz\nReferent*innen: – Klaus-Thomas Klos \n\n\nTag\nBeginn\nEnde\n\n\n1\n21.08.2025 11:00\n18:30\n\n\n2\n22.08.2025 09:00\n16:30\n\n\nAnmeldung erforderlich\nTelefon: 0931 46079033\nE-Mail: info@neuroraum.de\nInternet: https://www.neuroraum.de/seminare/#/de/classes\nGebühr pro Teilnehmer: 340\,- €\nMaximale Teilnehmerzahl: 20
URL:https://pk-hb.de/event/diagnostik-von-ads-und-adhs-bei-erwachsenen/
LOCATION:Weserwork @ Die Fabrik\, Hermann-Ritter-Straße 112\, Bremen\, 28197
CATEGORIES:FoBi,Seminar
END:VEVENT
END:VCALENDAR