BEGIN:VCALENDAR
VERSION:2.0
PRODID:-//PK HB - ECPv6.15.20//NONSGML v1.0//EN
CALSCALE:GREGORIAN
METHOD:PUBLISH
X-WR-CALNAME:PK HB
X-ORIGINAL-URL:https://pk-hb.de
X-WR-CALDESC:Veranstaltungen für PK HB
REFRESH-INTERVAL;VALUE=DURATION:PT1H
X-Robots-Tag:noindex
X-PUBLISHED-TTL:PT1H
BEGIN:VTIMEZONE
TZID:Europe/Berlin
BEGIN:DAYLIGHT
TZOFFSETFROM:+0100
TZOFFSETTO:+0200
TZNAME:CEST
DTSTART:20240331T010000
END:DAYLIGHT
BEGIN:STANDARD
TZOFFSETFROM:+0200
TZOFFSETTO:+0100
TZNAME:CET
DTSTART:20241027T010000
END:STANDARD
BEGIN:DAYLIGHT
TZOFFSETFROM:+0100
TZOFFSETTO:+0200
TZNAME:CEST
DTSTART:20250330T010000
END:DAYLIGHT
BEGIN:STANDARD
TZOFFSETFROM:+0200
TZOFFSETTO:+0100
TZNAME:CET
DTSTART:20251026T010000
END:STANDARD
BEGIN:DAYLIGHT
TZOFFSETFROM:+0100
TZOFFSETTO:+0200
TZNAME:CEST
DTSTART:20260329T010000
END:DAYLIGHT
BEGIN:STANDARD
TZOFFSETFROM:+0200
TZOFFSETTO:+0100
TZNAME:CET
DTSTART:20261025T010000
END:STANDARD
END:VTIMEZONE
BEGIN:VEVENT
DTSTART;TZID=Europe/Berlin:20250624T190000
DTEND;TZID=Europe/Berlin:20250624T220000
DTSTAMP:20260423T223144
CREATED:20250603T030008Z
LAST-MODIFIED:20250603T030008Z
UID:5304-1750791600-1750802400@pk-hb.de
SUMMARY:Testdiagnostik in der Kinder- und Jugendpsychotherapie\, Teil IV
DESCRIPTION:Die Testdiagnostik stellt in der verhaltenstherapeutischen Kinder- und Jugendlichen-psychotherapie einen wichtigen Stellenwert dar. Zur Diagnostik\, Verlaufsmessung und Evaluation können insbesondere Fragebögen- und Interviewverfahren\, Persönlichkeitsdiagnostik\, Intelligenz- und Leistungsdiagnostik\, neuropsychologische Diagnostik\, Entwicklungsdiagnostik\, Familiendiagnostik und projektive Verfahren genutzt werden.\nIn diesem Seminar geht es zunächst um die Testtheorie\, um sich einen guten Überblick über Gütekriterien\, Beurteilung und Auswahl von Testmaterial zu verschaffen. Im Weiteren geht es in der Testdiagnostik um die Anwendung und Interpretation von unterschiedlichen Testverfahren und -ergebnissen. Dieses soll die Teilnehmer*innen dazu befähigen\, in den Therapien durch hypothetisch geleitetes Vorgehen\, Testdiagnostik auszuwählen\, durchzuführen und zu interpretieren. Unter Berücksichtigung von differentialdiagnostischen Überlegungen soll die Testdiagnostik eine Unterstützung zur Festlegung und dem Ausschluss von Diagnosen dienen und Themen bzw. Schwerpunkte für die Psychotherapie in den Fokus rücken. \nArt der Veranstaltung: Präsenz\nReferent*innen: – Jessica Brinkmann\nAnmeldung erforderlich\nTelefon: 04212765980\nE-Mail: sell@nivt.de\nGebühr pro Teilnehmer: 80\,- €\nMaximale Teilnehmerzahl: 20
URL:https://pk-hb.de/event/testdiagnostik-in-der-kinder-und-jugendpsychotherapie-teil-iv/
LOCATION:Norddeutsches Institut für Verhaltenstherapie\, Bredenstr. 11\, Bremen\, 28195
CATEGORIES:FoBi,Seminar
END:VEVENT
BEGIN:VEVENT
DTSTART;TZID=Europe/Berlin:20250624T190000
DTEND;TZID=Europe/Berlin:20250624T220000
DTSTAMP:20260423T223144
CREATED:20250711T030224Z
LAST-MODIFIED:20250711T030224Z
UID:5385-1750791600-1750802400@pk-hb.de
SUMMARY:Testdiagnostik in der Kinder- und Jugendpsychotherapie\, Teil IV
DESCRIPTION:Die Testdiagnostik stellt in der verhaltenstherapeutischen Kinder- und Jugendlichen-psychotherapie einen wichtigen Stellenwert dar. Zur Diagnostik\, Verlaufsmessung und Evaluation können insbesondere Fragebögen- und Interviewverfahren\, Persönlichkeitsdiagnostik\, Intelligenz- und Leistungsdiagnostik\, neuropsychologische Diagnostik\, Entwicklungsdiagnostik\, Familiendiagnostik und projektive Verfahren genutzt werden.\nIn diesem Seminar geht es zunächst um die Testtheorie\, um sich einen guten Überblick über Gütekriterien\, Beurteilung und Auswahl von Testmaterial zu verschaffen. Im Weiteren geht es in der Testdiagnostik um die Anwendung und Interpretation von unterschiedlichen Testverfahren und -ergebnissen. Dieses soll die Teilnehmer*innen dazu befähigen\, in den Therapien durch hypothetisch geleitetes Vorgehen\, Testdiagnostik auszuwählen\, durchzuführen und zu interpretieren. Unter Berücksichtigung von differentialdiagnostischen Überlegungen soll die Testdiagnostik eine Unterstützung zur Festlegung und dem Ausschluss von Diagnosen dienen und Themen bzw. Schwerpunkte für die Psychotherapie in den Fokus rücken. \n\nAkkreditierungsnummer: 2767402025005400876\nFortbildungspunkte: 5\nReferent*innen: – Jessica Brinkmann\nAnmeldung erforderlich\nTelefon: 04212765980\nE-Mail: sell@nivt.de\nGebühr pro Teilnehmer: 80\,- €\nMaximale Teilnehmerzahl: 20
URL:https://pk-hb.de/event/testdiagnostik-in-der-kinder-und-jugendpsychotherapie-teil-iv-2/
LOCATION:Norddeutsches Institut für Verhaltenstherapie\, Bredenstr. 11\, Bremen\, 28195
CATEGORIES:FoBi,Seminar
END:VEVENT
END:VCALENDAR