BEGIN:VCALENDAR
VERSION:2.0
PRODID:-//PK HB - ECPv6.15.20//NONSGML v1.0//EN
CALSCALE:GREGORIAN
METHOD:PUBLISH
X-WR-CALNAME:PK HB
X-ORIGINAL-URL:https://pk-hb.de
X-WR-CALDESC:Veranstaltungen für PK HB
REFRESH-INTERVAL;VALUE=DURATION:PT1H
X-Robots-Tag:noindex
X-PUBLISHED-TTL:PT1H
BEGIN:VTIMEZONE
TZID:Europe/Berlin
BEGIN:DAYLIGHT
TZOFFSETFROM:+0100
TZOFFSETTO:+0200
TZNAME:CEST
DTSTART:20230326T010000
END:DAYLIGHT
BEGIN:STANDARD
TZOFFSETFROM:+0200
TZOFFSETTO:+0100
TZNAME:CET
DTSTART:20231029T010000
END:STANDARD
BEGIN:DAYLIGHT
TZOFFSETFROM:+0100
TZOFFSETTO:+0200
TZNAME:CEST
DTSTART:20240331T010000
END:DAYLIGHT
BEGIN:STANDARD
TZOFFSETFROM:+0200
TZOFFSETTO:+0100
TZNAME:CET
DTSTART:20241027T010000
END:STANDARD
BEGIN:DAYLIGHT
TZOFFSETFROM:+0100
TZOFFSETTO:+0200
TZNAME:CEST
DTSTART:20250330T010000
END:DAYLIGHT
BEGIN:STANDARD
TZOFFSETFROM:+0200
TZOFFSETTO:+0100
TZNAME:CET
DTSTART:20251026T010000
END:STANDARD
END:VTIMEZONE
BEGIN:VEVENT
DTSTART;TZID=Europe/Berlin:20241105T183000
DTEND;TZID=Europe/Berlin:20241105T191500
DTSTAMP:20260424T072424
CREATED:20241014T110433Z
LAST-MODIFIED:20241014T110433Z
UID:4666-1730831400-1730834100@pk-hb.de
SUMMARY:Fortbildungsveranstaltung "Psychische Gesundheit in der Klimakrise"
DESCRIPTION:
URL:https://pk-hb.de/event/fortbildungsveranstaltung-psychische-gesundheit-in-der-klimakrise/
LOCATION:Saal der Kassenärztlichen Vereinigung Bremen (KVHB)\, Schwachhauser Heerstr. 26-28\, Bremen\, 28209
END:VEVENT
BEGIN:VEVENT
DTSTART;TZID=Europe/Berlin:20241105T193000
DTEND;TZID=Europe/Berlin:20241105T193000
DTSTAMP:20260424T072424
CREATED:20231026T081246Z
LAST-MODIFIED:20231026T081255Z
UID:4193-1730835000-1730835000@pk-hb.de
SUMMARY:50. Kammerversammlung
DESCRIPTION:
URL:https://pk-hb.de/event/50-kammersammlung/
LOCATION:Saal der Kassenärztlichen Vereinigung Bremen (KVHB)\, Schwachhauser Heerstr. 26-28\, Bremen\, 28209
END:VEVENT
END:VCALENDAR